BEGIN:VCALENDAR
VERSION:2.0
PRODID:-//Helping Us Stay Safe - ECPv6.15.20//NONSGML v1.0//EN
CALSCALE:GREGORIAN
METHOD:PUBLISH
X-WR-CALNAME:Helping Us Stay Safe
X-ORIGINAL-URL:https://hussmi.org
X-WR-CALDESC:Events for Helping Us Stay Safe
REFRESH-INTERVAL;VALUE=DURATION:PT1H
X-Robots-Tag:noindex
X-PUBLISHED-TTL:PT1H
BEGIN:VTIMEZONE
TZID:America/Detroit
BEGIN:DAYLIGHT
TZOFFSETFROM:-0500
TZOFFSETTO:-0400
TZNAME:EDT
DTSTART:20240310T070000
END:DAYLIGHT
BEGIN:STANDARD
TZOFFSETFROM:-0400
TZOFFSETTO:-0500
TZNAME:EST
DTSTART:20241103T060000
END:STANDARD
BEGIN:DAYLIGHT
TZOFFSETFROM:-0500
TZOFFSETTO:-0400
TZNAME:EDT
DTSTART:20250309T070000
END:DAYLIGHT
BEGIN:STANDARD
TZOFFSETFROM:-0400
TZOFFSETTO:-0500
TZNAME:EST
DTSTART:20251102T060000
END:STANDARD
BEGIN:DAYLIGHT
TZOFFSETFROM:-0500
TZOFFSETTO:-0400
TZNAME:EDT
DTSTART:20260308T070000
END:DAYLIGHT
BEGIN:STANDARD
TZOFFSETFROM:-0400
TZOFFSETTO:-0500
TZNAME:EST
DTSTART:20261101T060000
END:STANDARD
BEGIN:DAYLIGHT
TZOFFSETFROM:-0500
TZOFFSETTO:-0400
TZNAME:EDT
DTSTART:20270314T070000
END:DAYLIGHT
BEGIN:STANDARD
TZOFFSETFROM:-0400
TZOFFSETTO:-0500
TZNAME:EST
DTSTART:20271107T060000
END:STANDARD
END:VTIMEZONE
BEGIN:VEVENT
DTSTART;TZID=America/Detroit:20260407T110000
DTEND;TZID=America/Detroit:20260407T123000
DTSTAMP:20260421T074356
CREATED:20260219T180437Z
LAST-MODIFIED:20260220T001127Z
UID:827-1775559600-1775565000@hussmi.org
SUMMARY:SAAM 2026 Kickoff
DESCRIPTION:  \n 
URL:https://hussmi.org/event/saam-2026/
LOCATION:Sterling Heights Library\, 40255 Dodge Park Rd\, Sterling Heights\, MI\, 48313\, United States
CATEGORIES:Meet & Greet
END:VEVENT
BEGIN:VEVENT
DTSTART;TZID=America/Detroit:20251217T180000
DTEND;TZID=America/Detroit:20251217T180000
DTSTAMP:20260421T074356
CREATED:20251119T002625Z
LAST-MODIFIED:20251119T004824Z
UID:791-1765994400-1765994400@hussmi.org
SUMMARY:Survivor Empowerment Circle
DESCRIPTION:A warm and welcoming morning where survivors\, supporters\, and allies connect over coffee\, compassion\, and community storytelling. \n 
URL:https://hussmi.org/event/survivor-empowerment-circle-2/
LOCATION:Mt. Clemens Public Library\, 150 Cass Avenue\, Mt. Clemins\, MI\, 48043\, United States
CATEGORIES:Meet & Greet
END:VEVENT
BEGIN:VEVENT
DTSTART;TZID=America/Detroit:20251115T080000
DTEND;TZID=America/Detroit:20251115T170000
DTSTAMP:20260421T074356
CREATED:20251015T133521Z
LAST-MODIFIED:20251016T200628Z
UID:776-1763193600-1763226000@hussmi.org
SUMMARY:Coffee & Conversations
DESCRIPTION:A warm and welcoming morning where survivors\, supporters\, and allies connect over coffee\, compassion\, and community storytelling. \n 
URL:https://hussmi.org/event/coffee-conversations/
LOCATION:The Spiritual Isreal Church & Its Army\, 9375 Amity S\, Detroit\, 48214\, United States
CATEGORIES:Meet & Greet
ATTACH;FMTTYPE=image/png:https://hussmi.org/wp-content/uploads/2025/10/Coffee-Conversationrev.png
END:VEVENT
BEGIN:VEVENT
DTSTART;TZID=America/Detroit:20251030T180000
DTEND;TZID=America/Detroit:20251030T193000
DTSTAMP:20260421T074356
CREATED:20251003T193545Z
LAST-MODIFIED:20251005T033758Z
UID:764-1761847200-1761852600@hussmi.org
SUMMARY:Survivor Empowerment Circle - October
DESCRIPTION:
URL:https://hussmi.org/event/survivor-empowerment-circle-october/
LOCATION:Civic Center Library\, One City Square\, Warren\, MI\, 48093\, United States
CATEGORIES:Support Group
ATTACH;FMTTYPE=image/jpeg:https://hussmi.org/wp-content/uploads/2025/10/IMG_6587.jpg
END:VEVENT
BEGIN:VEVENT
DTSTART;TZID=America/Detroit:20250717T180000
DTEND;TZID=America/Detroit:20250717T193000
DTSTAMP:20260421T074356
CREATED:20250923T134404Z
LAST-MODIFIED:20250923T134500Z
UID:760-1752775200-1752780600@hussmi.org
SUMMARY:Survivor Empowerment Circle
DESCRIPTION:Screenshot
URL:https://hussmi.org/event/survivor-empowerment-circle/
LOCATION:MI
CATEGORIES:Support Group
ATTACH;FMTTYPE=image/jpeg:https://hussmi.org/wp-content/uploads/2025/09/IMG_6581.jpg
END:VEVENT
BEGIN:VEVENT
DTSTART;TZID=America/Detroit:20250530T100000
DTEND;TZID=America/Detroit:20250530T120000
DTSTAMP:20260421T074356
CREATED:20250507T124552Z
LAST-MODIFIED:20250509T224223Z
UID:716-1748599200-1748606400@hussmi.org
SUMMARY:Survivor Empowerment Circles
DESCRIPTION:Helping Us Stay Safe proudly presents Survivor Empowerment Circles—a healing-centered\, peer-led initiative designed to support adult survivors of sexual abuse and assault within Michigan and beyond. These monthly gatherings offer a safe\, affirming space where survivors can connect\, share\, and heal through open dialogue\, creative expression\, and trauma-informed practices. Each circle features powerful themes like resilience\, self-advocacy\, and emotional wellness\, with guest speakers\, hands-on activities\, and storytelling that honors the strength of every voice. Rooted in community and empowerment\, these circles are a reminder that healing is possible—and no one has to walk the journey alone. \n 
URL:https://hussmi.org/event/survivor-empowerment-circles/
LOCATION:VanderVeen Conference Center in the Terminal Building\, 6500 Patterson Parkway\, Waterford\, MI\, 48327\, United States
CATEGORIES:Support Group
ATTACH;FMTTYPE=image/jpeg:https://hussmi.org/wp-content/uploads/2025/05/Screenshot-2025-05-06-at-18.53.57.jpeg
END:VEVENT
BEGIN:VEVENT
DTSTART;TZID=America/Detroit:20250517T110000
DTEND;TZID=America/Detroit:20250517T170000
DTSTAMP:20260421T074356
CREATED:20250428T005010Z
LAST-MODIFIED:20250428T005010Z
UID:684-1747479600-1747501200@hussmi.org
SUMMARY:Helping Us Stay Safe Soft Launch
DESCRIPTION:Helping us Stay Safe cordially invites you to our Soft Launch as we introduce our mission\, vision\, and future initiative to support survivors of sexual abuse.
URL:https://hussmi.org/event/helping-us-stay-safe-soft-launch/
LOCATION:McHenry Events\, 18791 15 Mile Road\, Clinton Township\, MN\, United States
CATEGORIES:Meet & Greet
END:VEVENT
END:VCALENDAR